BEGIN:VCALENDAR
VERSION:2.0
PRODID:-//Tukios.com/
BEGIN:VEVENT
UID:5f64c7b4-72fa-454e-a3f1-288344e43bb7@obituaries.louisvillemgwest.com
DTSTAMP:20260421T221344Z
DTSTART:20260427T190000Z
DTEND:20260427T230000Z
SUMMARY:Visitation
DESCRIPTION:
URL:https://obituaries.louisvillemgwest.com/latoya-williams
LOCATION:Louisville Memorial Gardens West 4400 Dixie Hwy  Louisville KY 
	40216
GEO:38.1843665;-85.8137153
END:VEVENT
END:VCALENDAR